BEGIN:VCALENDAR
VERSION:2.0
PRODID:-//Clallam - Jefferson County - ECPv6.8.2.1//NONSGML v1.0//EN
CALSCALE:GREGORIAN
METHOD:PUBLISH
X-WR-CALNAME:Clallam - Jefferson County
X-ORIGINAL-URL:https://cjcpbl.org
X-WR-CALDESC:Events for Clallam - Jefferson County
REFRESH-INTERVAL;VALUE=DURATION:PT1H
X-Robots-Tag:noindex
X-PUBLISHED-TTL:PT1H
BEGIN:VTIMEZONE
TZID:America/Los_Angeles
BEGIN:DAYLIGHT
TZOFFSETFROM:-0800
TZOFFSETTO:-0700
TZNAME:PDT
DTSTART:20180311T100000
END:DAYLIGHT
BEGIN:STANDARD
TZOFFSETFROM:-0700
TZOFFSETTO:-0800
TZNAME:PST
DTSTART:20181104T090000
END:STANDARD
END:VTIMEZONE
BEGIN:VEVENT
DTSTART;TZID=America/Los_Angeles:20181027T120000
DTEND;TZID=America/Los_Angeles:20181027T140000
DTSTAMP:20260422T154132
CREATED:20180307T004354Z
LAST-MODIFIED:20180307T172751Z
UID:10000007-1540641600-1540648800@cjcpbl.org
SUMMARY:General Free Legal Clinic
DESCRIPTION:
URL:https://cjcpbl.org/event/jeffco-free-legal-clinic/
LOCATION:Tri Area Community Center\, 10 West Valley Rd.\, Chimacum\, WA\, 98325
CATEGORIES:Clinics
ORGANIZER;CN="Clallam- Jefferson County Pro Bono Lawyers":MAILTO:probonolawyers@gmail.com
END:VEVENT
BEGIN:VEVENT
DTSTART;TZID=America/Los_Angeles:20180602T120000
DTEND;TZID=America/Los_Angeles:20180602T140000
DTSTAMP:20260422T154132
CREATED:20180307T173237Z
LAST-MODIFIED:20180307T173237Z
UID:10000005-1527940800-1527948000@cjcpbl.org
SUMMARY:Wills/Advance Directive Free Legal Clinic
DESCRIPTION:
URL:https://cjcpbl.org/event/wills-advance-directive-free-legal-clinic/
LOCATION:Tri Area Community Center\, 10 West Valley Rd.\, Chimacum\, WA\, 98325
CATEGORIES:Clinics
ORGANIZER;CN="Clallam- Jefferson County Pro Bono Lawyers":MAILTO:probonolawyers@gmail.com
END:VEVENT
BEGIN:VEVENT
DTSTART;TZID=America/Los_Angeles:20180526T120000
DTEND;TZID=America/Los_Angeles:20180526T140000
DTSTAMP:20260422T154132
CREATED:20180326T180120Z
LAST-MODIFIED:20180326T180120Z
UID:10000004-1527336000-1527343200@cjcpbl.org
SUMMARY:Law at the Landing - One on One Consulting with an Attorney
DESCRIPTION:
URL:https://cjcpbl.org/event/law-at-the-landing-one-on-one-consulting-with-an-attorney/
LOCATION:Landing Mall\, 115 E. Railroad Ave\, Port Angeles\, WA\, 98362\, United States
CATEGORIES:Clinics
ORGANIZER;CN="Clallam- Jefferson County Pro Bono Lawyers":MAILTO:probonolawyers@gmail.com
GEO:48.12065;-123.431636
X-APPLE-STRUCTURED-LOCATION;VALUE=URI;X-ADDRESS=Landing Mall 115 E. Railroad Ave Port Angeles WA 98362 United States;X-APPLE-RADIUS=500;X-TITLE=115 E. Railroad Ave:geo:-123.431636,48.12065
END:VEVENT
BEGIN:VEVENT
DTSTART;TZID=America/Los_Angeles:20180504T120000
DTEND;TZID=America/Los_Angeles:20180504T120000
DTSTAMP:20260422T154132
CREATED:20181211T181222Z
LAST-MODIFIED:20181219T232316Z
UID:10000002-1525435200-1525435200@cjcpbl.org
SUMMARY:A Law Day Celebration
DESCRIPTION:National Law Day is May 1st every year\, this is a day to celebrate the role of law in our society and to cultivate a deeper understanding of the legal profession. Clallam-Jefferson County Pro Bono Lawyers hosted more than 60 lawyers and judges at Kokopeli’s Grill in Port Angeles today to greet keynote speaker Dean Annette Clark (of Seattle University School of Law) and celebrate Law Day! \nThis annual luncheon is designed to recognize all of the local legal professionals who donate hundreds of hours of their time every year to ensure that those who are unable to afford legal representation have access to legal services. Lawyers rendering pro bono services do so without pay to help low and no income people who are experiencing problems with consumer issues\, wills & estates\, family law matters\, unlawful foreclosures\, bankruptcy and so forth. They do so under the umbrella of the Clallam-Jefferson County Pro Bono Lawyers\, a non-profit corporation assisted by Shauna Rogers McClain its executive director\, located in Port Angeles. \nDean Clark addressed the 2018 Law Day theme “Separation of Powers: a Framework for Freedom” to a record turnout. The American Bar Association notes the following about the 2018 theme “The U.S. Constitution sets out a system of government with distinct and independent branches—Congress\, the Presidency\, and a Supreme Court. It also defines legislative\, executive\, and judicial powers and outlines how they interact. These three separate branches share power\, and each branch serves as a check on the power of the others. \nAdditionally\, the Clallam & Jefferson County Bar Associations collaborate with CJCPBL to choose two local attorneys to receive CJCPBL’s Volunteer of the Year award. This year the honor goes to attorneys Nat Jacob of Jefferson County and Carl Gay of Clallam County. Both Mr. Jacob and Mr. Gay have demonstrated tireless dedication to improving access to justice and continually do an amazing job servicing low-income and vulnerable clients in need of civil legal aid services. \nThe outstanding success of this event can be measured by the best attendance ever in recent years coupled with the amount of funds raised that will directly towards providing essential legal services. Thank you all that attended and thank most of all to those who sponsored this event and support legal aid! \nUrquia Law\, Greenaway\, Gay\, Medina & Myers\, McMenamin & McMenamin\, Kurlin & Rimson\nJohnson\, Rutz & Tassie\, Wolfley Law Office\, Payne Law\, J. Richard Manning Seattle Northwest Mediator & Arbitrator Services\, Kostelec Law\, James Doros\, Linda L. Walden\, Steve Moriarty\, Ariel Speser & Nat Jacob\, Ruth Gordon\, Eileen Baratuci\, Doris Hardyman\, Mark Nichols\, Cathy Marshall\, Gary Williams\, Kristin Glenn\, Rebeca Glasgow\, Mindy Walker\, James Kennedy\, Stephanie Hyatt & Waypoint Law.
URL:https://cjcpbl.org/event/a-law-day-celebration/
CATEGORIES:CLE's & Events
END:VEVENT
BEGIN:VEVENT
DTSTART;TZID=America/Los_Angeles:20180428T120000
DTEND;TZID=America/Los_Angeles:20180428T133000
DTSTAMP:20260422T154132
CREATED:20180326T193035Z
LAST-MODIFIED:20180326T204510Z
UID:10000003-1524916800-1524922200@cjcpbl.org
SUMMARY:Test CLE Event
DESCRIPTION:This is a sample of an upcoming event that you can sell tickets to. This is where the blurb about the event would go.
URL:https://cjcpbl.org/event/test-cle-event/
LOCATION:Landing Mall\, 115 E. Railroad Ave\, Port Angeles\, WA\, 98362\, United States
CATEGORIES:CLE's & Events
ORGANIZER;CN="Clallam- Jefferson County Pro Bono Lawyers":MAILTO:probonolawyers@gmail.com
GEO:48.12065;-123.431636
X-APPLE-STRUCTURED-LOCATION;VALUE=URI;X-ADDRESS=Landing Mall 115 E. Railroad Ave Port Angeles WA 98362 United States;X-APPLE-RADIUS=500;X-TITLE=115 E. Railroad Ave:geo:-123.431636,48.12065
END:VEVENT
BEGIN:VEVENT
DTSTART;TZID=America/Los_Angeles:20180316T080000
DTEND;TZID=America/Los_Angeles:20180316T170000
DTSTAMP:20260422T154132
CREATED:20180226T195533Z
LAST-MODIFIED:20180307T021550Z
UID:10000008-1521187200-1521219600@cjcpbl.org
SUMMARY:Test Event 2
DESCRIPTION:Here is another blurb
URL:https://cjcpbl.org/event/test-event-2/
LOCATION:Jill Carter\, 306 Percival ST. NW\, Olympia\, WA\, 98502
CATEGORIES:CLE's & Events
END:VEVENT
BEGIN:VEVENT
DTSTART;TZID=America/Los_Angeles:20180309T080000
DTEND;TZID=America/Los_Angeles:20180309T170000
DTSTAMP:20260422T154132
CREATED:20180226T194619Z
LAST-MODIFIED:20180307T011431Z
UID:10000009-1520582400-1520614800@cjcpbl.org
SUMMARY:Test Event
DESCRIPTION:Here is the blurb
URL:https://cjcpbl.org/event/test-event/
LOCATION:Jill Carter\, 306 Percival ST. NW\, Olympia\, WA\, 98502
CATEGORIES:CLE's & Events
END:VEVENT
BEGIN:VEVENT
DTSTART;TZID=America/Los_Angeles:20180210T120000
DTEND;TZID=America/Los_Angeles:20180210T130000
DTSTAMP:20260422T154132
CREATED:20180307T173135Z
LAST-MODIFIED:20180307T173135Z
UID:10000006-1518264000-1518267600@cjcpbl.org
SUMMARY:Tenant/Landlord Free Legal Clinic
DESCRIPTION:
URL:https://cjcpbl.org/event/tenant-landlord-free-legal-clinic/
LOCATION:Tri Area Community Center\, 10 West Valley Rd.\, Chimacum\, WA\, 98325
CATEGORIES:Clinics
ORGANIZER;CN="Clallam- Jefferson County Pro Bono Lawyers":MAILTO:probonolawyers@gmail.com
END:VEVENT
BEGIN:VEVENT
DTSTART;TZID=America/Los_Angeles:20180101T120000
DTEND;TZID=America/Los_Angeles:20180101T120000
DTSTAMP:20260422T154132
CREATED:20180307T172948Z
LAST-MODIFIED:20181219T233214Z
UID:10000011-1514808000-1514808000@cjcpbl.org
SUMMARY:General Free Legal Clinic
DESCRIPTION:Volunteer attorneys will be available to consult with you on any civil legal matter.
URL:https://cjcpbl.org/event/general-free-legal-clinic/
LOCATION:Tri Area Community Center\, 10 West Valley Rd.\, Chimacum\, WA\, 98325
CATEGORIES:Clinics
ORGANIZER;CN="Clallam- Jefferson County Pro Bono Lawyers":MAILTO:probonolawyers@gmail.com
END:VEVENT
END:VCALENDAR